Package: minfi Version: 1.55.1 Command: /Library/Frameworks/R.framework/Resources/bin/R CMD check --install=check:minfi.install-out.txt --library=/Library/Frameworks/R.framework/Resources/library --no-vignettes --timings minfi_1.55.1.tar.gz StartedAt: 2025-07-11 20:09:28 -0400 (Fri, 11 Jul 2025) EndedAt: 2025-07-11 20:12:48 -0400 (Fri, 11 Jul 2025) EllapsedTime: 200.4 seconds RetCode: 0 Status: OK CheckDir: minfi.Rcheck Warnings: 0