Package: minet Version: 3.67.0 Command: chmod a+r minet -R && F:\biocbuild\bbs-3.22-bioc\R\bin\R.exe CMD build --keep-empty-dirs --no-resave-data minet StartedAt: 2025-07-13 20:23:25 -0400 (Sun, 13 Jul 2025) EndedAt: 2025-07-13 20:23:28 -0400 (Sun, 13 Jul 2025) EllapsedTime: 3.0 seconds RetCode: 0 Status: OK PackageFile: minet_3.67.0.tar.gz PackageFileSize: 50.12 KiB