Package: minet Version: 3.67.0 Command: rm -rf minet.buildbin-libdir && mkdir minet.buildbin-libdir && F:\biocbuild\bbs-3.22-bioc\R\bin\R.exe CMD INSTALL --build --library=minet.buildbin-libdir minet_3.67.0.tar.gz StartedAt: 2025-07-14 09:23:49 -0400 (Mon, 14 Jul 2025) EndedAt: 2025-07-14 09:25:09 -0400 (Mon, 14 Jul 2025) EllapsedTime: 80.4 seconds RetCode: 0 Status: OK PackageFile: minet_3.67.0.zip PackageFileSize: 144.1 KiB