Package: mimager Version: 1.33.0 Command: F:\biocbuild\bbs-3.22-bioc\R\bin\R.exe CMD INSTALL mimager StartedAt: 2025-07-20 16:00:34 -0400 (Sun, 20 Jul 2025) EndedAt: 2025-07-20 16:01:07 -0400 (Sun, 20 Jul 2025) EllapsedTime: 32.9 seconds RetCode: 0 Status: OK