Package: mimager Version: 1.33.0 Command: F:\biocbuild\bbs-3.22-bioc\R\bin\R.exe CMD check --no-multiarch --install=check:mimager.install-out.txt --library=F:\biocbuild\bbs-3.22-bioc\R\library --no-vignettes --timings mimager_1.33.0.tar.gz StartedAt: 2025-07-21 04:01:54 -0400 (Mon, 21 Jul 2025) EndedAt: 2025-07-21 04:06:11 -0400 (Mon, 21 Jul 2025) EllapsedTime: 256.3 seconds RetCode: 0 Status: OK CheckDir: mimager.Rcheck Warnings: 0