Package: mimager Version: 1.33.0 Command: /Library/Frameworks/R.framework/Resources/bin/R CMD INSTALL mimager StartedAt: 2025-07-15 15:32:52 -0400 (Tue, 15 Jul 2025) EndedAt: 2025-07-15 15:33:29 -0400 (Tue, 15 Jul 2025) EllapsedTime: 36.6 seconds RetCode: 0 Status: OK