Package: mimager Version: 1.33.0 Command: rm -rf mimager.buildbin-libdir && mkdir mimager.buildbin-libdir && /Users/biocbuild/BBS/utils/build-universal.sh mimager_1.33.0.tar.gz /Library/Frameworks/R.framework/Resources/bin/R mimager.buildbin-libdir StartedAt: 2025-07-08 01:02:05 -0400 (Tue, 08 Jul 2025) EndedAt: 2025-07-08 01:02:45 -0400 (Tue, 08 Jul 2025) EllapsedTime: 39.2 seconds RetCode: 0 Status: OK PackageFile: mimager_1.33.0.tgz PackageFileSize: 1.031 MiB