Package: mimager Version: 1.33.0 Command: /Library/Frameworks/R.framework/Resources/bin/R CMD INSTALL mimager StartedAt: 2025-10-03 15:13:40 -0400 (Fri, 03 Oct 2025) EndedAt: 2025-10-03 15:13:51 -0400 (Fri, 03 Oct 2025) EllapsedTime: 10.7 seconds RetCode: 0 Status: OK