Package: mimager Version: 1.33.0 Command: /Library/Frameworks/R.framework/Resources/bin/R CMD build --keep-empty-dirs --no-resave-data mimager StartedAt: 2025-10-05 17:04:06 -0400 (Sun, 05 Oct 2025) EndedAt: 2025-10-05 17:04:33 -0400 (Sun, 05 Oct 2025) EllapsedTime: 27.4 seconds RetCode: 0 Status: OK PackageFile: mimager_1.33.0.tar.gz PackageFileSize: 965.3 KiB