Package: miloR Version: 2.5.1 Command: /home/biocbuild/R/R/bin/R CMD INSTALL miloR StartedAt: 2025-06-30 21:20:36 -0000 (Mon, 30 Jun 2025) EndedAt: 2025-06-30 21:24:12 -0000 (Mon, 30 Jun 2025) EllapsedTime: 215.7 seconds RetCode: 0 Status: OK