Package: miloR Version: 2.5.1 Command: /home/biocbuild/R/R/bin/R CMD check --install=check:miloR.install-out.txt --library=/home/biocbuild/R/R/site-library --no-vignettes --timings miloR_2.5.1.tar.gz StartedAt: 2025-07-01 09:19:15 -0000 (Tue, 01 Jul 2025) EndedAt: 2025-07-01 09:28:39 -0000 (Tue, 01 Jul 2025) EllapsedTime: 564.7 seconds RetCode: 0 Status: WARNINGS CheckDir: miloR.Rcheck Warnings: 1