Package: miloR Version: 2.5.1 Command: /home/biocbuild/R/R/bin/R CMD build --keep-empty-dirs --no-resave-data miloR StartedAt: 2025-07-01 01:03:44 -0000 (Tue, 01 Jul 2025) EndedAt: 2025-07-01 01:26:14 -0000 (Tue, 01 Jul 2025) EllapsedTime: 1349.8 seconds RetCode: 0 Status: OK PackageFile: miloR_2.5.1.tar.gz PackageFileSize: 6.127 MiB