Package: midasHLA Version: 1.17.0 Command: /Library/Frameworks/R.framework/Resources/bin/R CMD INSTALL midasHLA StartedAt: 2025-07-01 15:11:23 -0400 (Tue, 01 Jul 2025) EndedAt: 2025-07-01 15:11:36 -0400 (Tue, 01 Jul 2025) EllapsedTime: 12.7 seconds RetCode: 0 Status: OK