Package: midasHLA Version: 1.17.0 Command: /Library/Frameworks/R.framework/Resources/bin/R CMD check --install=check:midasHLA.install-out.txt --library=/Library/Frameworks/R.framework/Resources/library --no-vignettes --timings midasHLA_1.17.0.tar.gz StartedAt: 2025-07-01 20:08:01 -0400 (Tue, 01 Jul 2025) EndedAt: 2025-07-01 20:10:00 -0400 (Tue, 01 Jul 2025) EllapsedTime: 119.4 seconds RetCode: 1 Status: ERROR CheckDir: midasHLA.Rcheck Warnings: NA