Package: midasHLA Version: 1.17.0 Command: /Library/Frameworks/R.framework/Resources/bin/R CMD build --keep-empty-dirs --no-resave-data midasHLA StartedAt: 2025-07-01 16:53:52 -0400 (Tue, 01 Jul 2025) EndedAt: 2025-07-01 16:54:57 -0400 (Tue, 01 Jul 2025) EllapsedTime: 64.7 seconds RetCode: 0 Status: OK PackageFile: midasHLA_1.17.0.tar.gz PackageFileSize: 1.894 MiB