Package: microbiome Version: 1.31.0 Command: /home/biocbuild/R/R/bin/R CMD check --install=check:microbiome.install-out.txt --library=/home/biocbuild/R/R/site-library --no-vignettes --timings microbiome_1.31.0.tar.gz StartedAt: 2025-07-01 09:16:57 -0000 (Tue, 01 Jul 2025) EndedAt: 2025-07-01 09:20:47 -0000 (Tue, 01 Jul 2025) EllapsedTime: 230.3 seconds RetCode: 0 Status: OK CheckDir: microbiome.Rcheck Warnings: 0