Package: microbiome Version: 1.31.3 Command: F:\biocbuild\bbs-3.22-bioc\R\bin\R.exe CMD INSTALL microbiome StartedAt: 2025-07-24 16:00:51 -0400 (Thu, 24 Jul 2025) EndedAt: 2025-07-24 16:02:02 -0400 (Thu, 24 Jul 2025) EllapsedTime: 71.0 seconds RetCode: 0 Status: OK