Package: microbiome Version: 1.31.2 Command: /Library/Frameworks/R.framework/Resources/bin/R CMD INSTALL microbiome StartedAt: 2025-07-20 15:08:49 -0400 (Sun, 20 Jul 2025) EndedAt: 2025-07-20 15:08:57 -0400 (Sun, 20 Jul 2025) EllapsedTime: 8.0 seconds RetCode: 0 Status: OK