Package: microbiome Version: 1.31.2 Command: /Library/Frameworks/R.framework/Resources/bin/R CMD check --install=check:microbiome.install-out.txt --library=/Library/Frameworks/R.framework/Resources/library --no-vignettes --timings microbiome_1.31.2.tar.gz StartedAt: 2025-07-20 20:13:17 -0400 (Sun, 20 Jul 2025) EndedAt: 2025-07-20 20:14:31 -0400 (Sun, 20 Jul 2025) EllapsedTime: 73.9 seconds RetCode: 1 Status: ERROR CheckDir: microbiome.Rcheck Warnings: NA