Package: microbiome Version: 1.31.2 Command: rm -rf microbiome.buildbin-libdir && mkdir microbiome.buildbin-libdir && /Users/biocbuild/BBS/utils/build-universal.sh microbiome_1.31.2.tar.gz /Library/Frameworks/R.framework/Resources/bin/R microbiome.buildbin-libdir StartedAt: 2025-07-20 22:32:27 -0400 (Sun, 20 Jul 2025) EndedAt: 2025-07-20 22:32:37 -0400 (Sun, 20 Jul 2025) EllapsedTime: 10.2 seconds RetCode: 0 Status: OK PackageFile: microbiome_1.31.2.tgz PackageFileSize: 1.001 MiB