Package: microSTASIS Version: 1.9.0 Command: /home/biocbuild/R/R/bin/R CMD INSTALL microSTASIS StartedAt: 2025-06-30 20:41:51 -0000 (Mon, 30 Jun 2025) EndedAt: 2025-06-30 20:41:54 -0000 (Mon, 30 Jun 2025) EllapsedTime: 2.7 seconds RetCode: 0 Status: OK