Package: microSTASIS Version: 1.9.0 Command: /home/biocbuild/R/R/bin/R CMD build --keep-empty-dirs --no-resave-data microSTASIS StartedAt: 2025-07-01 01:03:24 -0000 (Tue, 01 Jul 2025) EndedAt: 2025-07-01 01:05:02 -0000 (Tue, 01 Jul 2025) EllapsedTime: 98.0 seconds RetCode: 0 Status: OK PackageFile: microSTASIS_1.9.0.tar.gz PackageFileSize: 834.5 KiB