Package: microRNA Version: 1.67.0 Command: chmod a+r microRNA -R && F:\biocbuild\bbs-3.22-bioc\R\bin\R.exe CMD build --keep-empty-dirs --no-resave-data microRNA StartedAt: 2025-07-24 20:33:15 -0400 (Thu, 24 Jul 2025) EndedAt: 2025-07-24 20:33:22 -0400 (Thu, 24 Jul 2025) EllapsedTime: 6.3 seconds RetCode: 0 Status: OK PackageFile: microRNA_1.67.0.tar.gz PackageFileSize: 5.743 MiB