Package: microRNA Version: 1.67.0 Command: rm -rf microRNA.buildbin-libdir && mkdir microRNA.buildbin-libdir && F:\biocbuild\bbs-3.22-bioc\R\bin\R.exe CMD INSTALL --build --library=microRNA.buildbin-libdir microRNA_1.67.0.tar.gz StartedAt: 2025-07-25 09:41:01 -0400 (Fri, 25 Jul 2025) EndedAt: 2025-07-25 09:41:33 -0400 (Fri, 25 Jul 2025) EllapsedTime: 32.4 seconds RetCode: 0 Status: OK PackageFile: microRNA_1.67.0.zip PackageFileSize: 5.838 MiB