Package: miaViz Version: 1.17.9 Command: /home/biocbuild/R/R/bin/R CMD check --install=check:miaViz.install-out.txt --library=/home/biocbuild/R/R/site-library --no-vignettes --timings miaViz_1.17.9.tar.gz StartedAt: 2025-10-03 08:59:13 -0000 (Fri, 03 Oct 2025) EndedAt: 2025-10-03 09:08:59 -0000 (Fri, 03 Oct 2025) EllapsedTime: 585.9 seconds RetCode: 1 Status: ERROR CheckDir: miaViz.Rcheck Warnings: NA