Package: miaViz Version: 1.17.9 Command: /home/biocbuild/R/R/bin/R CMD build --keep-empty-dirs --no-resave-data miaViz StartedAt: 2025-10-03 01:19:37 -0000 (Fri, 03 Oct 2025) EndedAt: 2025-10-03 01:22:06 -0000 (Fri, 03 Oct 2025) EllapsedTime: 149.0 seconds RetCode: 0 Status: OK PackageFile: miaViz_1.17.9.tar.gz PackageFileSize: 1.285 MiB