Package: miaViz Version: 1.17.9 Command: F:\biocbuild\bbs-3.22-bioc\R\bin\R.exe CMD INSTALL miaViz StartedAt: 2025-06-30 16:55:44 -0400 (Mon, 30 Jun 2025) EndedAt: 2025-06-30 16:57:03 -0400 (Mon, 30 Jun 2025) EllapsedTime: 79.3 seconds RetCode: 0 Status: OK