Package: miaViz Version: 1.17.9 Command: F:\biocbuild\bbs-3.22-bioc\R\bin\R.exe CMD check --no-multiarch --install=check:miaViz.install-out.txt --library=F:\biocbuild\bbs-3.22-bioc\R\library --no-vignettes --timings miaViz_1.17.9.tar.gz StartedAt: 2025-07-03 03:59:21 -0400 (Thu, 03 Jul 2025) EndedAt: 2025-07-03 04:10:11 -0400 (Thu, 03 Jul 2025) EllapsedTime: 649.7 seconds RetCode: 0 Status: OK CheckDir: miaViz.Rcheck Warnings: 0