Package: miaViz Version: 1.17.9 Command: /home/biocbuild/bbs-3.22-bioc/R/bin/R CMD build --keep-empty-dirs --no-resave-data --md5 miaViz StartedAt: 2025-06-29 18:04:16 -0400 (Sun, 29 Jun 2025) EndedAt: 2025-06-29 18:05:58 -0400 (Sun, 29 Jun 2025) EllapsedTime: 102.1 seconds RetCode: 0 Status: OK PackageFile: miaViz_1.17.9.tar.gz PackageFileSize: 2.836 MiB