Package: miaViz Version: 1.17.9 Command: /Library/Frameworks/R.framework/Resources/bin/R CMD INSTALL miaViz StartedAt: 2025-07-01 16:00:32 -0400 (Tue, 01 Jul 2025) EndedAt: 2025-07-01 16:01:32 -0400 (Tue, 01 Jul 2025) EllapsedTime: 59.4 seconds RetCode: 0 Status: OK