Package: miaViz Version: 1.17.9 Command: /Library/Frameworks/R.framework/Resources/bin/R CMD check --install=check:miaViz.install-out.txt --library=/Library/Frameworks/R.framework/Resources/library --no-vignettes --timings miaViz_1.17.9.tar.gz StartedAt: 2025-07-01 21:56:14 -0400 (Tue, 01 Jul 2025) EndedAt: 2025-07-01 22:05:47 -0400 (Tue, 01 Jul 2025) EllapsedTime: 573.1 seconds RetCode: 0 Status: OK CheckDir: miaViz.Rcheck Warnings: 0