Package: miaViz Version: 1.17.9 Command: /Library/Frameworks/R.framework/Resources/bin/R CMD build --keep-empty-dirs --no-resave-data miaViz StartedAt: 2025-07-01 17:38:31 -0400 (Tue, 01 Jul 2025) EndedAt: 2025-07-01 17:40:38 -0400 (Tue, 01 Jul 2025) EllapsedTime: 126.8 seconds RetCode: 0 Status: OK PackageFile: miaViz_1.17.9.tar.gz PackageFileSize: 2.533 MiB