Package: miaViz Version: 1.17.9 Command: /Library/Frameworks/R.framework/Resources/bin/R CMD build --keep-empty-dirs --no-resave-data miaViz StartedAt: 2025-07-14 16:53:38 -0400 (Mon, 14 Jul 2025) EndedAt: 2025-07-14 16:54:32 -0400 (Mon, 14 Jul 2025) EllapsedTime: 53.6 seconds RetCode: 0 Status: OK PackageFile: miaViz_1.17.9.tar.gz PackageFileSize: 2.529 MiB