Package: miaViz Version: 1.17.9 Command: rm -rf miaViz.buildbin-libdir && mkdir miaViz.buildbin-libdir && /Users/biocbuild/BBS/utils/build-universal.sh miaViz_1.17.9.tar.gz /Library/Frameworks/R.framework/Resources/bin/R miaViz.buildbin-libdir StartedAt: 2025-07-14 22:25:27 -0400 (Mon, 14 Jul 2025) EndedAt: 2025-07-14 22:25:46 -0400 (Mon, 14 Jul 2025) EllapsedTime: 19.3 seconds RetCode: 0 Status: OK PackageFile: miaViz_1.17.9.tgz PackageFileSize: 2.835 MiB