Package: miaSim Version: 1.15.1 Command: /Library/Frameworks/R.framework/Resources/bin/R CMD check --install=check:miaSim.install-out.txt --library=/Library/Frameworks/R.framework/Resources/library --no-vignettes --timings miaSim_1.15.1.tar.gz StartedAt: 2025-07-21 21:53:35 -0400 (Mon, 21 Jul 2025) EndedAt: 2025-07-21 21:58:42 -0400 (Mon, 21 Jul 2025) EllapsedTime: 307.0 seconds RetCode: 0 Status: OK CheckDir: miaSim.Rcheck Warnings: 0