Package: miaSim Version: 1.15.1 Command: /Library/Frameworks/R.framework/Resources/bin/R CMD build --keep-empty-dirs --no-resave-data miaSim StartedAt: 2025-07-20 17:37:09 -0400 (Sun, 20 Jul 2025) EndedAt: 2025-07-20 17:38:10 -0400 (Sun, 20 Jul 2025) EllapsedTime: 60.6 seconds RetCode: 0 Status: OK PackageFile: miaSim_1.15.1.tar.gz PackageFileSize: 392.4 KiB