Package: miaSim Version: 1.15.1 Command: rm -rf miaSim.buildbin-libdir && mkdir miaSim.buildbin-libdir && /Users/biocbuild/BBS/utils/build-universal.sh miaSim_1.15.1.tar.gz /Library/Frameworks/R.framework/Resources/bin/R miaSim.buildbin-libdir StartedAt: 2025-07-21 01:11:57 -0400 (Mon, 21 Jul 2025) EndedAt: 2025-07-21 01:12:39 -0400 (Mon, 21 Jul 2025) EllapsedTime: 41.6 seconds RetCode: 0 Status: OK PackageFile: miaSim_1.15.1.tgz PackageFileSize: 481.2 KiB