Package: miaDash Version: 1.1.1 Command: /Library/Frameworks/R.framework/Resources/bin/R CMD INSTALL miaDash StartedAt: 2025-07-20 15:30:33 -0400 (Sun, 20 Jul 2025) EndedAt: 2025-07-20 15:30:50 -0400 (Sun, 20 Jul 2025) EllapsedTime: 17.9 seconds RetCode: 0 Status: OK