Package: miaDash Version: 1.1.1 Command: /Library/Frameworks/R.framework/Resources/bin/R CMD build --keep-empty-dirs --no-resave-data miaDash StartedAt: 2025-07-20 16:54:04 -0400 (Sun, 20 Jul 2025) EndedAt: 2025-07-20 16:54:38 -0400 (Sun, 20 Jul 2025) EllapsedTime: 34.4 seconds RetCode: 0 Status: OK PackageFile: miaDash_1.1.1.tar.gz PackageFileSize: 2.062 MiB