Package: mia Version: 1.17.5 Command: /Library/Frameworks/R.framework/Resources/bin/R CMD check --install=check:mia.install-out.txt --library=/Library/Frameworks/R.framework/Resources/library --no-vignettes --timings mia_1.17.5.tar.gz StartedAt: 2025-07-17 21:48:42 -0400 (Thu, 17 Jul 2025) EndedAt: 2025-07-17 22:28:42 -0400 (Thu, 17 Jul 2025) EllapsedTime: 2400.3 seconds RetCode: None Status: TIMEOUT CheckDir: mia.Rcheck Warnings: NA