Package: mia Version: 1.17.5 Command: rm -rf mia.buildbin-libdir && mkdir mia.buildbin-libdir && /Users/biocbuild/BBS/utils/build-universal.sh mia_1.17.5.tar.gz /Library/Frameworks/R.framework/Resources/bin/R mia.buildbin-libdir StartedAt: 2025-07-15 01:06:04 -0400 (Tue, 15 Jul 2025) EndedAt: 2025-07-15 01:07:31 -0400 (Tue, 15 Jul 2025) EllapsedTime: 86.5 seconds RetCode: 0 Status: OK PackageFile: mia_1.17.5.tgz PackageFileSize: 3.686 MiB