Package: mia Version: 1.17.5 Command: /Library/Frameworks/R.framework/Resources/bin/R CMD build --keep-empty-dirs --no-resave-data mia StartedAt: 2025-07-14 16:53:35 -0400 (Mon, 14 Jul 2025) EndedAt: 2025-07-14 16:54:28 -0400 (Mon, 14 Jul 2025) EllapsedTime: 52.6 seconds RetCode: 0 Status: OK PackageFile: mia_1.17.5.tar.gz PackageFileSize: 3.01 MiB