Package: miRspongeR Version: 2.13.4 Command: /home/biocbuild/R/R/bin/R CMD INSTALL miRspongeR StartedAt: 2025-07-14 21:19:02 -0000 (Mon, 14 Jul 2025) EndedAt: 2025-07-14 21:20:20 -0000 (Mon, 14 Jul 2025) EllapsedTime: 77.8 seconds RetCode: 0 Status: OK