Package: miRspongeR Version: 2.13.4 Command: /home/biocbuild/R/R/bin/R CMD build --keep-empty-dirs --no-resave-data miRspongeR StartedAt: 2025-07-15 01:05:28 -0000 (Tue, 15 Jul 2025) EndedAt: 2025-07-15 01:12:39 -0000 (Tue, 15 Jul 2025) EllapsedTime: 431.4 seconds RetCode: 0 Status: OK PackageFile: miRspongeR_2.13.4.tar.gz PackageFileSize: 700.9 KiB