Package: miRspongeR Version: 2.13.4 Command: chmod a+r miRspongeR -R && F:\biocbuild\bbs-3.22-bioc\R\bin\R.exe CMD build --keep-empty-dirs --no-resave-data miRspongeR StartedAt: 2025-07-24 20:36:41 -0400 (Thu, 24 Jul 2025) EndedAt: 2025-07-24 20:44:06 -0400 (Thu, 24 Jul 2025) EllapsedTime: 444.9 seconds RetCode: 0 Status: OK PackageFile: miRspongeR_2.13.4.tar.gz PackageFileSize: 674.9 KiB