Package: miRcomp Version: 1.39.1 Command: /home/biocbuild/R/R/bin/R CMD build --keep-empty-dirs --no-resave-data miRcomp StartedAt: 2025-07-25 02:04:37 -0000 (Fri, 25 Jul 2025) EndedAt: 2025-07-25 02:05:34 -0000 (Fri, 25 Jul 2025) EllapsedTime: 57.0 seconds RetCode: 0 Status: OK PackageFile: miRcomp_1.39.1.tar.gz PackageFileSize: 2.758 MiB