Package: miRcomp Version: 1.39.1 Command: F:\biocbuild\bbs-3.22-bioc\R\bin\R.exe CMD check --no-multiarch --install=check:miRcomp.install-out.txt --library=F:\biocbuild\bbs-3.22-bioc\R\library --no-vignettes --timings miRcomp_1.39.1.tar.gz StartedAt: 2025-07-15 03:59:02 -0400 (Tue, 15 Jul 2025) EndedAt: 2025-07-15 04:00:00 -0400 (Tue, 15 Jul 2025) EllapsedTime: 57.9 seconds RetCode: 0 Status: OK CheckDir: miRcomp.Rcheck Warnings: 0