Package: miRcomp Version: 1.39.1 Command: /Library/Frameworks/R.framework/Resources/bin/R CMD INSTALL miRcomp StartedAt: 2025-07-14 15:07:03 -0400 (Mon, 14 Jul 2025) EndedAt: 2025-07-14 15:07:05 -0400 (Mon, 14 Jul 2025) EllapsedTime: 1.6 seconds RetCode: 0 Status: OK