Package: miRSM Version: 2.5.4 Command: F:\biocbuild\bbs-3.22-bioc\R\bin\R.exe CMD check --no-multiarch --install=check:miRSM.install-out.txt --library=F:\biocbuild\bbs-3.22-bioc\R\library --no-vignettes --timings miRSM_2.5.4.tar.gz StartedAt: 2025-07-12 03:55:52 -0400 (Sat, 12 Jul 2025) EndedAt: 2025-07-12 04:04:01 -0400 (Sat, 12 Jul 2025) EllapsedTime: 489.4 seconds RetCode: 0 Status: OK CheckDir: miRSM.Rcheck Warnings: 0