Package: miRSM Version: 2.5.4 Command: /Library/Frameworks/R.framework/Resources/bin/R CMD build --keep-empty-dirs --no-resave-data miRSM StartedAt: 2025-07-16 17:36:54 -0400 (Wed, 16 Jul 2025) EndedAt: 2025-07-16 17:39:08 -0400 (Wed, 16 Jul 2025) EllapsedTime: 133.7 seconds RetCode: 0 Status: OK PackageFile: miRSM_2.5.4.tar.gz PackageFileSize: 4.882 MiB